BEGIN:VCALENDAR
VERSION:2.0
X-WR-CALNAME:Hello Huntsville Events - 3rd Annual All About Kids Expo
X-WR-CALDESC:Event from Hello Huntsville TX
PRODID:Hello Huntsville TX
BEGIN:VEVENT
DTEND:20260425T190000Z
LOCATION:Huntsville Church of Christ\, 3737 Hwy 30
DTSTART:20260425T150000Z
SUMMARY:3rd Annual All About Kids Expo
UID:ec2e2cca-531d-4887-825d-4ee1b172f514@ec2e.org
URL:https://casaofwalkercounty.org/all-about-kids-expo/
END:VEVENT
END:VCALENDAR