BEGIN:VCALENDAR
VERSION:2.0
X-WR-CALNAME:Hello Huntsville Events - 2026 6th Annual Barbells for Boston
X-WR-CALDESC:Event from Hello Huntsville TX
PRODID:Hello Huntsville TX
BEGIN:VEVENT
DTEND:20260502T200000Z
LOCATION:University Heights Baptist Church\, 2400 Sycamore Ave
DTSTART:20260502T130000Z
SUMMARY:2026 6th Annual Barbells for Boston
UID:21fe1e8b-391a-401c-ab86-a21f52b912df@21fe.org
URL:https://www.eventbrite.com/e/2026-6th-annual-barbells-for-boston-tickets-1985233576067
END:VEVENT
END:VCALENDAR